BEGIN:VCALENDAR
VERSION:2.0
PRODID:-//Southwest Health - ECPv6.15.20//NONSGML v1.0//EN
CALSCALE:GREGORIAN
METHOD:PUBLISH
X-WR-CALNAME:Southwest Health
X-ORIGINAL-URL:https://www.swhealth.org
X-WR-CALDESC:Events for Southwest Health
REFRESH-INTERVAL;VALUE=DURATION:PT1H
X-Robots-Tag:noindex
X-PUBLISHED-TTL:PT1H
BEGIN:VTIMEZONE
TZID:UTC
BEGIN:STANDARD
TZOFFSETFROM:+0000
TZOFFSETTO:+0000
TZNAME:UTC
DTSTART:20220101T000000
END:STANDARD
END:VTIMEZONE
BEGIN:VEVENT
DTSTART;TZID=UTC:20230104T170000
DTEND;TZID=UTC:20230104T190000
DTSTAMP:20260421T165004
CREATED:20221229T181700Z
LAST-MODIFIED:20221229T181700Z
UID:18119-1672851600-1672858800@www.swhealth.org
SUMMARY:SHS Executive Session
DESCRIPTION:01-04-23 Executive Session Agenda \nThis event is an executive session.
URL:https://www.swhealth.org/event/shs-executive-session/
LOCATION:CO
END:VEVENT
END:VCALENDAR