BEGIN:VCALENDAR
VERSION:2.0
PRODID:-//Southwest Health - ECPv6.15.20//NONSGML v1.0//EN
CALSCALE:GREGORIAN
METHOD:PUBLISH
X-WR-CALNAME:Southwest Health
X-ORIGINAL-URL:https://www.swhealth.org
X-WR-CALDESC:Events for Southwest Health
REFRESH-INTERVAL;VALUE=DURATION:PT1H
X-Robots-Tag:noindex
X-PUBLISHED-TTL:PT1H
BEGIN:VTIMEZONE
TZID:UTC
BEGIN:STANDARD
TZOFFSETFROM:+0000
TZOFFSETTO:+0000
TZNAME:UTC
DTSTART:20220101T000000
END:STANDARD
END:VTIMEZONE
BEGIN:VEVENT
DTSTART;TZID=UTC:20231115T130000
DTEND;TZID=UTC:20231115T143000
DTSTAMP:20260421T040949
CREATED:20231019T205315Z
LAST-MODIFIED:20231019T205315Z
UID:18665-1700053200-1700058600@www.swhealth.org
SUMMARY:Southwest Memorial Hospital Foundation Meeting
DESCRIPTION:The Southwest Memorial Hospital Foundation is committed to aligning itself closely with the Southwest Health System board of directors in focusing on key priorities for the health system. The organization continues to change and grow for the better and the Foundation aims to support those initiatives. \nAll meetings are open to the public.
URL:https://www.swhealth.org/event/southwest-memorial-hospital-foundation-meeting/
LOCATION:Kiva Room – Southwest Memorial Hospital\, 1311 North Mildred Rd.\, Cortez\, CO\, 81321\, United States
END:VEVENT
END:VCALENDAR