BEGIN:VCALENDAR
VERSION:2.0
PRODID:-//Southwest Health - ECPv6.15.20//NONSGML v1.0//EN
CALSCALE:GREGORIAN
METHOD:PUBLISH
X-ORIGINAL-URL:https://www.swhealth.org
X-WR-CALDESC:Events for Southwest Health
REFRESH-INTERVAL;VALUE=DURATION:PT1H
X-Robots-Tag:noindex
X-PUBLISHED-TTL:PT1H
BEGIN:VTIMEZONE
TZID:UTC
BEGIN:STANDARD
TZOFFSETFROM:+0000
TZOFFSETTO:+0000
TZNAME:UTC
DTSTART:20220101T000000
END:STANDARD
END:VTIMEZONE
BEGIN:VEVENT
DTSTART;TZID=UTC:20231218T170000
DTEND;TZID=UTC:20231218T190000
DTSTAMP:20260421T025545
CREATED:20231128T155718Z
LAST-MODIFIED:20231128T155718Z
UID:18751-1702918800-1702926000@www.swhealth.org
SUMMARY:SHS Board Meeting - Annual Meeting
DESCRIPTION:Please RSVP to lawright@swhealth.org if you would like to attend.
URL:https://www.swhealth.org/event/shs-board-meeting-annual-meeting/
LOCATION:Kiva Room – Southwest Memorial Hospital\, 1311 North Mildred Rd.\, Cortez\, CO\, 81321\, United States
END:VEVENT
END:VCALENDAR