BEGIN:VCALENDAR
VERSION:2.0
PRODID:-//Southwest Health - ECPv6.15.20//NONSGML v1.0//EN
CALSCALE:GREGORIAN
METHOD:PUBLISH
X-WR-CALNAME:Southwest Health
X-ORIGINAL-URL:https://www.swhealth.org
X-WR-CALDESC:Events for Southwest Health
REFRESH-INTERVAL;VALUE=DURATION:PT1H
X-Robots-Tag:noindex
X-PUBLISHED-TTL:PT1H
BEGIN:VTIMEZONE
TZID:UTC
BEGIN:STANDARD
TZOFFSETFROM:+0000
TZOFFSETTO:+0000
TZNAME:UTC
DTSTART:20210101T000000
END:STANDARD
END:VTIMEZONE
BEGIN:VEVENT
DTSTART;TZID=UTC:20221207T170000
DTEND;TZID=UTC:20221207T190000
DTSTAMP:20260420T152651
CREATED:20221117T185003Z
LAST-MODIFIED:20221117T185003Z
UID:18045-1670432400-1670439600@www.swhealth.org
SUMMARY:SHS Board Meeting
DESCRIPTION:
URL:https://www.swhealth.org/event/shs-board-meeting/
LOCATION:Kiva Room – Southwest Memorial Hospital\, 1311 North Mildred Rd.\, Cortez\, CO\, 81321\, United States
END:VEVENT
END:VCALENDAR