BEGIN:VCALENDAR
VERSION:2.0
PRODID:-//Southwest Health - ECPv6.15.20//NONSGML v1.0//EN
CALSCALE:GREGORIAN
METHOD:PUBLISH
X-WR-CALNAME:Southwest Health
X-ORIGINAL-URL:https://www.swhealth.org
X-WR-CALDESC:Events for Southwest Health
REFRESH-INTERVAL;VALUE=DURATION:PT1H
X-Robots-Tag:noindex
X-PUBLISHED-TTL:PT1H
BEGIN:VTIMEZONE
TZID:UTC
BEGIN:STANDARD
TZOFFSETFROM:+0000
TZOFFSETTO:+0000
TZNAME:UTC
DTSTART:20210101T000000
END:STANDARD
END:VTIMEZONE
BEGIN:VEVENT
DTSTART;TZID=UTC:20230717T133000
DTEND;TZID=UTC:20230717T150000
DTSTAMP:20260420T164556
CREATED:20230713T194504Z
LAST-MODIFIED:20230713T194522Z
UID:18445-1689600600-1689606000@www.swhealth.org
SUMMARY:MCHD SPECIAL BOARD MEETING AND WORK SESSION With Montezuma County Commissioners And Southwest Health System
DESCRIPTION:
URL:https://www.swhealth.org/event/mchd-special-board-meeting-and-work-session-with-montezuma-county-commissioners/
LOCATION:CO
END:VEVENT
BEGIN:VEVENT
DTSTART;TZID=UTC:20230615T180000
DTEND;TZID=UTC:20230615T200000
DTSTAMP:20260420T164556
CREATED:20230612T191142Z
LAST-MODIFIED:20230612T191142Z
UID:18375-1686852000-1686859200@www.swhealth.org
SUMMARY:SHS BOARD Special Meeting
DESCRIPTION:This board meeting will be an opportunity for the SHS board to discuss the recent announcement of the temporary closure of the Family Birthing Center with the public. Please RSVP to lallen@swhealth.org if you would like to attend.
URL:https://www.swhealth.org/event/shs-board-special-meeting/
LOCATION:Southwest Memorial EMS Training Center\, 1093-1094\, Cottonwood St\, Cortez\, CO\, 81321\, United States
END:VEVENT
BEGIN:VEVENT
DTSTART;TZID=UTC:20230222T170000
DTEND;TZID=UTC:20230222T190000
DTSTAMP:20260420T164556
CREATED:20230216T153921Z
LAST-MODIFIED:20230216T153921Z
UID:18175-1677085200-1677092400@www.swhealth.org
SUMMARY:SHS Board Meeting
DESCRIPTION:Please RSVP to lawright@swhealth.org if you would like to attend. Temp checks and masks are required. Seating is limited.
URL:https://www.swhealth.org/event/shs-board-meeting-2/
LOCATION:CO
END:VEVENT
BEGIN:VEVENT
DTSTART;TZID=UTC:20230104T170000
DTEND;TZID=UTC:20230104T190000
DTSTAMP:20260420T164556
CREATED:20221229T181700Z
LAST-MODIFIED:20221229T181700Z
UID:18119-1672851600-1672858800@www.swhealth.org
SUMMARY:SHS Executive Session
DESCRIPTION:01-04-23 Executive Session Agenda \nThis event is an executive session.
URL:https://www.swhealth.org/event/shs-executive-session/
LOCATION:CO
END:VEVENT
BEGIN:VEVENT
DTSTART;TZID=UTC:20221207T170000
DTEND;TZID=UTC:20221207T190000
DTSTAMP:20260420T164556
CREATED:20221117T185003Z
LAST-MODIFIED:20221117T185003Z
UID:18045-1670432400-1670439600@www.swhealth.org
SUMMARY:SHS Board Meeting
DESCRIPTION:
URL:https://www.swhealth.org/event/shs-board-meeting/
LOCATION:Kiva Room – Southwest Memorial Hospital\, 1311 North Mildred Rd.\, Cortez\, CO\, 81321\, United States
END:VEVENT
END:VCALENDAR