BEGIN:VCALENDAR
VERSION:2.0
PRODID:-//Southwest Health - ECPv6.15.20//NONSGML v1.0//EN
CALSCALE:GREGORIAN
METHOD:PUBLISH
X-WR-CALNAME:Southwest Health
X-ORIGINAL-URL:https://www.swhealth.org
X-WR-CALDESC:Events for Southwest Health
REFRESH-INTERVAL;VALUE=DURATION:PT1H
X-Robots-Tag:noindex
X-PUBLISHED-TTL:PT1H
BEGIN:VTIMEZONE
TZID:UTC
BEGIN:STANDARD
TZOFFSETFROM:+0000
TZOFFSETTO:+0000
TZNAME:UTC
DTSTART:20250101T000000
END:STANDARD
END:VTIMEZONE
BEGIN:VEVENT
DTSTART;TZID=UTC:20261028T170000
DTEND;TZID=UTC:20261028T190000
DTSTAMP:20260419T132047
CREATED:20260223T162749Z
LAST-MODIFIED:20260223T162749Z
UID:20027-1793206800-1793214000@www.swhealth.org
SUMMARY:Southwest Health System Board Meeting
DESCRIPTION:Please RSVP to Bridgett Jabour at bjabour@swhealth.org.
URL:https://www.swhealth.org/event/southwest-health-system-board-meeting-21/
LOCATION:Kiva Room – Southwest Memorial Hospital\, 1311 North Mildred Rd.\, Cortez\, CO\, 81321\, United States
END:VEVENT
BEGIN:VEVENT
DTSTART;TZID=UTC:20261118T180000
DTEND;TZID=UTC:20261118T190000
DTSTAMP:20260419T132047
CREATED:20260223T163720Z
LAST-MODIFIED:20260223T163720Z
UID:20049-1795024800-1795028400@www.swhealth.org
SUMMARY:MCHD Board Meeting
DESCRIPTION:Meetings are held on the 3rd Wednesday of every month at 6 pm in the EMS Training Room (1093-1094\, Cottonwood St\, Cortez\, CO 81321)
URL:https://www.swhealth.org/event/mchd-board-meeting-22/
LOCATION:Southwest Memorial EMS Training Center\, 1093-1094\, Cottonwood St\, Cortez\, CO\, 81321\, United States
END:VEVENT
BEGIN:VEVENT
DTSTART;TZID=UTC:20261216T170000
DTEND;TZID=UTC:20261216T190000
DTSTAMP:20260419T132047
CREATED:20260223T162848Z
LAST-MODIFIED:20260223T162848Z
UID:20029-1797440400-1797447600@www.swhealth.org
SUMMARY:Southwest Health System Board Meeting
DESCRIPTION:Please RSVP to Bridgett Jabour at bjabour@swhealth.org.
URL:https://www.swhealth.org/event/southwest-health-system-board-meeting-22/
LOCATION:Kiva Room – Southwest Memorial Hospital\, 1311 North Mildred Rd.\, Cortez\, CO\, 81321\, United States
END:VEVENT
BEGIN:VEVENT
DTSTART;TZID=UTC:20261216T180000
DTEND;TZID=UTC:20261216T190000
DTSTAMP:20260419T132047
CREATED:20260223T163846Z
LAST-MODIFIED:20260223T163846Z
UID:20051-1797444000-1797447600@www.swhealth.org
SUMMARY:MCHD Board Meeting
DESCRIPTION:Meetings are held on the 3rd Wednesday of every month at 6 pm in the EMS Training Room (1093-1094\, Cottonwood St\, Cortez\, CO 81321)
URL:https://www.swhealth.org/event/mchd-board-meeting-23/
LOCATION:Southwest Memorial EMS Training Center\, 1093-1094\, Cottonwood St\, Cortez\, CO\, 81321\, United States
END:VEVENT
END:VCALENDAR